BEGIN:VCALENDAR
VERSION:2.0
PRODID:-//Eagle Point Baptist Church - ECPv6.15.20//NONSGML v1.0//EN
CALSCALE:GREGORIAN
METHOD:PUBLISH
X-WR-CALNAME:Eagle Point Baptist Church
X-ORIGINAL-URL:https://eaglepointbaptist.org
X-WR-CALDESC:Events for Eagle Point Baptist Church
REFRESH-INTERVAL;VALUE=DURATION:PT1H
X-Robots-Tag:noindex
X-PUBLISHED-TTL:PT1H
BEGIN:VTIMEZONE
TZID:UTC
BEGIN:STANDARD
TZOFFSETFROM:+0000
TZOFFSETTO:+0000
TZNAME:UTC
DTSTART:20240101T000000
END:STANDARD
END:VTIMEZONE
BEGIN:VEVENT
DTSTART;TZID=UTC:20250425T183000
DTEND;TZID=UTC:20250425T203000
DTSTAMP:20260425T161824
CREATED:20250408T172916Z
LAST-MODIFIED:20250408T172916Z
UID:510-1745605800-1745613000@eaglepointbaptist.org
SUMMARY:Ladies' Night Out
DESCRIPTION:
URL:https://eaglepointbaptist.org/event/ladies-night-out/
LOCATION:Eagle Point Baptist Church\, 14356 Highway 62\, Eagle Point\, OR\, 97524\, United States
CATEGORIES:Ladies Event
ORGANIZER;CN="Crystal Estremado":MAILTO:epbc2022@gmail.com
END:VEVENT
END:VCALENDAR