BEGIN:VCALENDAR
VERSION:2.0
PRODID:-//Eagle Point Baptist Church - ECPv6.15.20//NONSGML v1.0//EN
CALSCALE:GREGORIAN
METHOD:PUBLISH
X-WR-CALNAME:Eagle Point Baptist Church
X-ORIGINAL-URL:https://eaglepointbaptist.org
X-WR-CALDESC:Events for Eagle Point Baptist Church
REFRESH-INTERVAL;VALUE=DURATION:PT1H
X-Robots-Tag:noindex
X-PUBLISHED-TTL:PT1H
BEGIN:VTIMEZONE
TZID:UTC
BEGIN:STANDARD
TZOFFSETFROM:+0000
TZOFFSETTO:+0000
TZNAME:UTC
DTSTART:20240101T000000
END:STANDARD
END:VTIMEZONE
BEGIN:VEVENT
DTSTART;VALUE=DATE:20250918
DTEND;VALUE=DATE:20250921
DTSTAMP:20260425T130641
CREATED:20250408T174859Z
LAST-MODIFIED:20250408T174859Z
UID:554-1758153600-1758412799@eaglepointbaptist.org
SUMMARY:Ladies' Delight
DESCRIPTION:
URL:https://eaglepointbaptist.org/event/ladies-delight/
LOCATION:Harvest Baptist Temple\, 2001 S. Columbus Ave\, Medford\, OR\, 97504\, United States
CATEGORIES:Ladies Event
ORGANIZER;CN="Crystal Estremado":MAILTO:epbc2022@gmail.com
END:VEVENT
BEGIN:VEVENT
DTSTART;TZID=UTC:20250913T090000
DTEND;TZID=UTC:20250913T100000
DTSTAMP:20260425T130641
CREATED:20250408T174820Z
LAST-MODIFIED:20250408T181224Z
UID:552-1757754000-1757757600@eaglepointbaptist.org
SUMMARY:Neighborhood Outreach
DESCRIPTION:Join us as we share the gospel and invite those in our community to our church. Let’s see what God is going to do as we are faithful to His Great Commission.
URL:https://eaglepointbaptist.org/event/neighborhood-outreach-4/
LOCATION:Eagle Point Baptist Church\, 14356 Highway 62\, Eagle Point\, OR\, 97524\, United States
CATEGORIES:Outreach
ORGANIZER;CN="Pastor Jarret Estremado":MAILTO:epbc2022@gmail.com
END:VEVENT
BEGIN:VEVENT
DTSTART;TZID=UTC:20250912T190000
DTEND;TZID=UTC:20250912T200000
DTSTAMP:20260425T130641
CREATED:20250408T174726Z
LAST-MODIFIED:20250408T174726Z
UID:550-1757703600-1757707200@eaglepointbaptist.org
SUMMARY:Ladies' Bible Study
DESCRIPTION:
URL:https://eaglepointbaptist.org/event/ladies-bible-study/
LOCATION:Eagle Point Baptist Church\, 14356 Highway 62\, Eagle Point\, OR\, 97524\, United States
CATEGORIES:Ladies Event
ORGANIZER;CN="Crystal Estremado":MAILTO:epbc2022@gmail.com
END:VEVENT
BEGIN:VEVENT
DTSTART;TZID=UTC:20250905T190000
DTEND;TZID=UTC:20250905T200000
DTSTAMP:20260425T130641
CREATED:20250408T174637Z
LAST-MODIFIED:20250408T174637Z
UID:548-1757098800-1757102400@eaglepointbaptist.org
SUMMARY:Men's Bible Study
DESCRIPTION:
URL:https://eaglepointbaptist.org/event/mens-bible-study/
LOCATION:Eagle Point Baptist Church\, 14356 Highway 62\, Eagle Point\, OR\, 97524\, United States
CATEGORIES:Men's Event
ORGANIZER;CN="Pastor Jarret Estremado":MAILTO:epbc2022@gmail.com
END:VEVENT
BEGIN:VEVENT
DTSTART;VALUE=DATE:20250901
DTEND;VALUE=DATE:20250902
DTSTAMP:20260425T130641
CREATED:20250408T174553Z
LAST-MODIFIED:20250408T174553Z
UID:546-1756684800-1756771199@eaglepointbaptist.org
SUMMARY:Labor Day
DESCRIPTION:
URL:https://eaglepointbaptist.org/event/labor-day/
LOCATION:OR
CATEGORIES:Holiday
ORGANIZER;CN="Pastor Jarret Estremado":MAILTO:epbc2022@gmail.com
END:VEVENT
BEGIN:VEVENT
DTSTART;TZID=UTC:20250830T090000
DTEND;TZID=UTC:20250830T100000
DTSTAMP:20260425T130641
CREATED:20250408T174525Z
LAST-MODIFIED:20250408T174525Z
UID:544-1756544400-1756548000@eaglepointbaptist.org
SUMMARY:Church Property Workday
DESCRIPTION:
URL:https://eaglepointbaptist.org/event/church-property-workday/
LOCATION:Eagle Point Baptist Church\, 14356 Highway 62\, Eagle Point\, OR\, 97524\, United States
CATEGORIES:Service Opportunity
ORGANIZER;CN="Pastor Jarret Estremado":MAILTO:epbc2022@gmail.com
END:VEVENT
BEGIN:VEVENT
DTSTART;TZID=UTC:20250810T173000
DTEND;TZID=UTC:20250810T193000
DTSTAMP:20260425T130641
CREATED:20250408T174412Z
LAST-MODIFIED:20250408T174412Z
UID:542-1754847000-1754854200@eaglepointbaptist.org
SUMMARY:Harvest Homecoming Service
DESCRIPTION:
URL:https://eaglepointbaptist.org/event/harvest-homecoming-service/
LOCATION:Harvest Baptist Temple\, 2001 S. Columbus Ave\, Medford\, OR\, 97504\, United States
CATEGORIES:Church Service
ORGANIZER;CN="Pastor Jarret Estremado":MAILTO:epbc2022@gmail.com
END:VEVENT
BEGIN:VEVENT
DTSTART;VALUE=DATE:20250808
DTEND;VALUE=DATE:20250810
DTSTAMP:20260425T130641
CREATED:20250408T174314Z
LAST-MODIFIED:20250408T181606Z
UID:539-1754611200-1754783999@eaglepointbaptist.org
SUMMARY:Men of Valor Conference
DESCRIPTION:
URL:https://eaglepointbaptist.org/event/men-of-valor/
LOCATION:Harvest Baptist Temple\, 2001 S. Columbus Ave\, Medford\, OR\, 97504\, United States
CATEGORIES:Men's Event
ORGANIZER;CN="Pastor Jarret Estremado":MAILTO:epbc2022@gmail.com
END:VEVENT
BEGIN:VEVENT
DTSTART;VALUE=DATE:20250728
DTEND;VALUE=DATE:20250802
DTSTAMP:20260425T130641
CREATED:20250408T174218Z
LAST-MODIFIED:20250408T174218Z
UID:537-1753660800-1754092799@eaglepointbaptist.org
SUMMARY:Jr. Camp
DESCRIPTION:
URL:https://eaglepointbaptist.org/event/jr-camp/
LOCATION:Mountain Lakes Bible Camp\, 21200 Varney Creek Rd\, Klamath Falls\, OR\, 97601\, United States
CATEGORIES:Kids Activity
ORGANIZER;CN="Pastor Jarret Estremado":MAILTO:epbc2022@gmail.com
END:VEVENT
BEGIN:VEVENT
DTSTART;VALUE=DATE:20250721
DTEND;VALUE=DATE:20250727
DTSTAMP:20260425T130641
CREATED:20250408T174121Z
LAST-MODIFIED:20250408T174121Z
UID:535-1753056000-1753574399@eaglepointbaptist.org
SUMMARY:Teen Camp
DESCRIPTION:
URL:https://eaglepointbaptist.org/event/teen-camp/
LOCATION:OR
CATEGORIES:Teen Activity
ORGANIZER;CN="Pastor Jarret Estremado":MAILTO:epbc2022@gmail.com
END:VEVENT
BEGIN:VEVENT
DTSTART;VALUE=DATE:20250704
DTEND;VALUE=DATE:20250705
DTSTAMP:20260425T130641
CREATED:20250408T174034Z
LAST-MODIFIED:20250408T174034Z
UID:533-1751587200-1751673599@eaglepointbaptist.org
SUMMARY:Independence Day
DESCRIPTION:
URL:https://eaglepointbaptist.org/event/independence-day/
LOCATION:OR
CATEGORIES:Holiday
ORGANIZER;CN="Pastor Jarret Estremado":MAILTO:epbc2022@gmail.com
END:VEVENT
BEGIN:VEVENT
DTSTART;VALUE=DATE:20250626
DTEND;VALUE=DATE:20250629
DTSTAMP:20260425T130641
CREATED:20250408T173957Z
LAST-MODIFIED:20250408T173957Z
UID:531-1750896000-1751155199@eaglepointbaptist.org
SUMMARY:Men's Camp with Harvest Baptist
DESCRIPTION:
URL:https://eaglepointbaptist.org/event/mens-camp-with-harvest-baptist/
LOCATION:OR
CATEGORIES:Men's Event
ORGANIZER;CN="Pastor Jarret Estremado":MAILTO:epbc2022@gmail.com
END:VEVENT
BEGIN:VEVENT
DTSTART;TZID=UTC:20250620T180000
DTEND;TZID=UTC:20250620T203000
DTSTAMP:20260425T130641
CREATED:20250408T173855Z
LAST-MODIFIED:20250408T173855Z
UID:529-1750442400-1750451400@eaglepointbaptist.org
SUMMARY:Teen Game/Sports Night
DESCRIPTION:
URL:https://eaglepointbaptist.org/event/teen-game-sports-night-2/
LOCATION:Eagle Point Baptist Church\, 14356 Highway 62\, Eagle Point\, OR\, 97524\, United States
CATEGORIES:Teen Activity
ORGANIZER;CN="Pastor Jarret Estremado":MAILTO:epbc2022@gmail.com
END:VEVENT
BEGIN:VEVENT
DTSTART;VALUE=DATE:20250615
DTEND;VALUE=DATE:20250616
DTSTAMP:20260425T130641
CREATED:20250408T173755Z
LAST-MODIFIED:20250408T194942Z
UID:527-1749945600-1750031999@eaglepointbaptist.org
SUMMARY:Father's Day
DESCRIPTION:
URL:https://eaglepointbaptist.org/event/fathers-day/
LOCATION:Eagle Point Baptist Church\, 14356 Highway 62\, Eagle Point\, OR\, 97524\, United States
CATEGORIES:Church Service,Holiday
ORGANIZER;CN="Pastor Jarret Estremado":MAILTO:epbc2022@gmail.com
END:VEVENT
BEGIN:VEVENT
DTSTART;TZID=UTC:20250614T090000
DTEND;TZID=UTC:20250614T100000
DTSTAMP:20260425T130641
CREATED:20250408T173721Z
LAST-MODIFIED:20250408T181142Z
UID:525-1749891600-1749895200@eaglepointbaptist.org
SUMMARY:Neighborhood Outreach
DESCRIPTION:Join us as we share the gospel and invite those in our community to our church. Let’s see what God is going to do as we are faithful to His Great Commission.
URL:https://eaglepointbaptist.org/event/neighborhood-outreach-3/
LOCATION:Eagle Point Baptist Church\, 14356 Highway 62\, Eagle Point\, OR\, 97524\, United States
CATEGORIES:Outreach
ORGANIZER;CN="Pastor Jarret Estremado":MAILTO:epbc2022@gmail.com
END:VEVENT
BEGIN:VEVENT
DTSTART;TZID=UTC:20250606T180000
DTEND;TZID=UTC:20250607T140000
DTSTAMP:20260425T130641
CREATED:20250408T173604Z
LAST-MODIFIED:20250408T180730Z
UID:523-1749232800-1749304800@eaglepointbaptist.org
SUMMARY:Family Camp
DESCRIPTION:
URL:https://eaglepointbaptist.org/event/family-camp-2/
LOCATION:Eagle Point Baptist Church\, 14356 Highway 62\, Eagle Point\, OR\, 97524\, United States
CATEGORIES:Family Event
ORGANIZER;CN="Pastor Jarret Estremado":MAILTO:epbc2022@gmail.com
END:VEVENT
BEGIN:VEVENT
DTSTART;TZID=UTC:20250531T090000
DTEND;TZID=UTC:20250531T100000
DTSTAMP:20260425T130641
CREATED:20250408T173433Z
LAST-MODIFIED:20250408T181125Z
UID:521-1748682000-1748685600@eaglepointbaptist.org
SUMMARY:Neighborhood Outreach
DESCRIPTION:Join us as we share the gospel and invite those in our community to our church. Let’s see what God is going to do as we are faithful to His Great Commission.
URL:https://eaglepointbaptist.org/event/neighborhood-outreach-2/
LOCATION:Eagle Point Baptist Church\, 14356 Highway 62\, Eagle Point\, OR\, 97524\, United States
CATEGORIES:Outreach
ORGANIZER;CN="Pastor Jarret Estremado":MAILTO:epbc2022@gmail.com
END:VEVENT
BEGIN:VEVENT
DTSTART;VALUE=DATE:20250526
DTEND;VALUE=DATE:20250527
DTSTAMP:20260425T130641
CREATED:20250408T173331Z
LAST-MODIFIED:20250408T173331Z
UID:519-1748217600-1748303999@eaglepointbaptist.org
SUMMARY:Memorial Day
DESCRIPTION:
URL:https://eaglepointbaptist.org/event/memorial-day/
LOCATION:OR
CATEGORIES:Holiday
ORGANIZER;CN="Pastor Jarret Estremado":MAILTO:epbc2022@gmail.com
END:VEVENT
BEGIN:VEVENT
DTSTART;VALUE=DATE:20250515
DTEND;VALUE=DATE:20250518
DTSTAMP:20260425T130641
CREATED:20250408T173301Z
LAST-MODIFIED:20250408T182128Z
UID:517-1747267200-1747526399@eaglepointbaptist.org
SUMMARY:Men's Hanford Trip
DESCRIPTION:
URL:https://eaglepointbaptist.org/event/mens-hanford-trip/
LOCATION:OR
CATEGORIES:Men's Event
ORGANIZER;CN="Pastor Jarret Estremado":MAILTO:epbc2022@gmail.com
END:VEVENT
BEGIN:VEVENT
DTSTART;VALUE=DATE:20250511
DTEND;VALUE=DATE:20250512
DTSTAMP:20260425T130641
CREATED:20250408T173025Z
LAST-MODIFIED:20250408T173025Z
UID:512-1746921600-1747007999@eaglepointbaptist.org
SUMMARY:Mother's Day
DESCRIPTION:
URL:https://eaglepointbaptist.org/event/mothers-day/
LOCATION:Eagle Point Baptist Church\, 14356 Highway 62\, Eagle Point\, OR\, 97524\, United States
CATEGORIES:Church Service
ORGANIZER;CN="Pastor Jarret Estremado":MAILTO:epbc2022@gmail.com
END:VEVENT
BEGIN:VEVENT
DTSTART;TZID=UTC:20250425T183000
DTEND;TZID=UTC:20250425T203000
DTSTAMP:20260425T130641
CREATED:20250408T172916Z
LAST-MODIFIED:20250408T172916Z
UID:510-1745605800-1745613000@eaglepointbaptist.org
SUMMARY:Ladies' Night Out
DESCRIPTION:
URL:https://eaglepointbaptist.org/event/ladies-night-out/
LOCATION:Eagle Point Baptist Church\, 14356 Highway 62\, Eagle Point\, OR\, 97524\, United States
CATEGORIES:Ladies Event
ORGANIZER;CN="Crystal Estremado":MAILTO:epbc2022@gmail.com
END:VEVENT
END:VCALENDAR