BEGIN:VCALENDAR
VERSION:2.0
PRODID:-//Eagle Point Baptist Church - ECPv6.15.20//NONSGML v1.0//EN
CALSCALE:GREGORIAN
METHOD:PUBLISH
X-ORIGINAL-URL:https://eaglepointbaptist.org
X-WR-CALDESC:Events for Eagle Point Baptist Church
REFRESH-INTERVAL;VALUE=DURATION:PT1H
X-Robots-Tag:noindex
X-PUBLISHED-TTL:PT1H
BEGIN:VTIMEZONE
TZID:UTC
BEGIN:STANDARD
TZOFFSETFROM:+0000
TZOFFSETTO:+0000
TZNAME:UTC
DTSTART:20240101T000000
END:STANDARD
END:VTIMEZONE
BEGIN:VEVENT
DTSTART;TZID=UTC:20251206T090000
DTEND;TZID=UTC:20251206T100000
DTSTAMP:20260425T162131
CREATED:20250408T180144Z
LAST-MODIFIED:20250408T181352Z
UID:589-1765011600-1765015200@eaglepointbaptist.org
SUMMARY:Neighborhood Outreach
DESCRIPTION:Join us as we share the gospel and invite those in our community to our church. Let’s see what God is going to do as we are faithful to His Great Commission.
URL:https://eaglepointbaptist.org/event/neighborhood-outreach-8/
LOCATION:Eagle Point Baptist Church\, 14356 Highway 62\, Eagle Point\, OR\, 97524\, United States
CATEGORIES:Outreach
ORGANIZER;CN="Pastor Jarret Estremado":MAILTO:epbc2022@gmail.com
END:VEVENT
BEGIN:VEVENT
DTSTART;TZID=UTC:20251115T090000
DTEND;TZID=UTC:20251115T100000
DTSTAMP:20260425T162131
CREATED:20250408T175825Z
LAST-MODIFIED:20250408T181339Z
UID:578-1763197200-1763200800@eaglepointbaptist.org
SUMMARY:Neighborhood Outreach
DESCRIPTION:Join us as we share the gospel and invite those in our community to our church. Let’s see what God is going to do as we are faithful to His Great Commission.
URL:https://eaglepointbaptist.org/event/neighborhood-outreach-7/
LOCATION:Eagle Point Baptist Church\, 14356 Highway 62\, Eagle Point\, OR\, 97524\, United States
CATEGORIES:Outreach
ORGANIZER;CN="Pastor Jarret Estremado":MAILTO:epbc2022@gmail.com
END:VEVENT
BEGIN:VEVENT
DTSTART;TZID=UTC:20251025T090000
DTEND;TZID=UTC:20251025T100000
DTSTAMP:20260425T162131
CREATED:20250408T175149Z
LAST-MODIFIED:20250408T181300Z
UID:562-1761382800-1761386400@eaglepointbaptist.org
SUMMARY:Neighborhood Outreach
DESCRIPTION:Join us as we share the gospel and invite those in our community to our church. Let’s see what God is going to do as we are faithful to His Great Commission.
URL:https://eaglepointbaptist.org/event/neighborhood-outreach-6/
LOCATION:Eagle Point Baptist Church\, 14356 Highway 62\, Eagle Point\, OR\, 97524\, United States
CATEGORIES:Outreach
ORGANIZER;CN="Pastor Jarret Estremado":MAILTO:epbc2022@gmail.com
END:VEVENT
BEGIN:VEVENT
DTSTART;TZID=UTC:20251018T090000
DTEND;TZID=UTC:20251018T100000
DTSTAMP:20260425T162131
CREATED:20250408T175112Z
LAST-MODIFIED:20250408T181244Z
UID:560-1760778000-1760781600@eaglepointbaptist.org
SUMMARY:Neighborhood Outreach
DESCRIPTION:Join us as we share the gospel and invite those in our community to our church. Let’s see what God is going to do as we are faithful to His Great Commission.
URL:https://eaglepointbaptist.org/event/neighborhood-outreach-5/
LOCATION:Eagle Point Baptist Church\, 14356 Highway 62\, Eagle Point\, OR\, 97524\, United States
CATEGORIES:Outreach
ORGANIZER;CN="Pastor Jarret Estremado":MAILTO:epbc2022@gmail.com
END:VEVENT
BEGIN:VEVENT
DTSTART;TZID=UTC:20250913T090000
DTEND;TZID=UTC:20250913T100000
DTSTAMP:20260425T162131
CREATED:20250408T174820Z
LAST-MODIFIED:20250408T181224Z
UID:552-1757754000-1757757600@eaglepointbaptist.org
SUMMARY:Neighborhood Outreach
DESCRIPTION:Join us as we share the gospel and invite those in our community to our church. Let’s see what God is going to do as we are faithful to His Great Commission.
URL:https://eaglepointbaptist.org/event/neighborhood-outreach-4/
LOCATION:Eagle Point Baptist Church\, 14356 Highway 62\, Eagle Point\, OR\, 97524\, United States
CATEGORIES:Outreach
ORGANIZER;CN="Pastor Jarret Estremado":MAILTO:epbc2022@gmail.com
END:VEVENT
BEGIN:VEVENT
DTSTART;TZID=UTC:20250614T090000
DTEND;TZID=UTC:20250614T100000
DTSTAMP:20260425T162131
CREATED:20250408T173721Z
LAST-MODIFIED:20250408T181142Z
UID:525-1749891600-1749895200@eaglepointbaptist.org
SUMMARY:Neighborhood Outreach
DESCRIPTION:Join us as we share the gospel and invite those in our community to our church. Let’s see what God is going to do as we are faithful to His Great Commission.
URL:https://eaglepointbaptist.org/event/neighborhood-outreach-3/
LOCATION:Eagle Point Baptist Church\, 14356 Highway 62\, Eagle Point\, OR\, 97524\, United States
CATEGORIES:Outreach
ORGANIZER;CN="Pastor Jarret Estremado":MAILTO:epbc2022@gmail.com
END:VEVENT
BEGIN:VEVENT
DTSTART;TZID=UTC:20250531T090000
DTEND;TZID=UTC:20250531T100000
DTSTAMP:20260425T162131
CREATED:20250408T173433Z
LAST-MODIFIED:20250408T181125Z
UID:521-1748682000-1748685600@eaglepointbaptist.org
SUMMARY:Neighborhood Outreach
DESCRIPTION:Join us as we share the gospel and invite those in our community to our church. Let’s see what God is going to do as we are faithful to His Great Commission.
URL:https://eaglepointbaptist.org/event/neighborhood-outreach-2/
LOCATION:Eagle Point Baptist Church\, 14356 Highway 62\, Eagle Point\, OR\, 97524\, United States
CATEGORIES:Outreach
ORGANIZER;CN="Pastor Jarret Estremado":MAILTO:epbc2022@gmail.com
END:VEVENT
END:VCALENDAR