BEGIN:VCALENDAR
VERSION:2.0
PRODID:-//Eagle Point Baptist Church - ECPv6.15.20//NONSGML v1.0//EN
CALSCALE:GREGORIAN
METHOD:PUBLISH
X-ORIGINAL-URL:https://eaglepointbaptist.org
X-WR-CALDESC:Events for Eagle Point Baptist Church
REFRESH-INTERVAL;VALUE=DURATION:PT1H
X-Robots-Tag:noindex
X-PUBLISHED-TTL:PT1H
BEGIN:VTIMEZONE
TZID:UTC
BEGIN:STANDARD
TZOFFSETFROM:+0000
TZOFFSETTO:+0000
TZNAME:UTC
DTSTART:20240101T000000
END:STANDARD
END:VTIMEZONE
BEGIN:VEVENT
DTSTART;TZID=UTC:20251205T190000
DTEND;TZID=UTC:20251205T210000
DTSTAMP:20260425T144346
CREATED:20250408T180057Z
LAST-MODIFIED:20250408T180257Z
UID:586-1764961200-1764968400@eaglepointbaptist.org
SUMMARY:Men's Bible Study/Christmas Party
DESCRIPTION:
URL:https://eaglepointbaptist.org/event/mens-bible-study-2/
LOCATION:Eagle Point Baptist Church\, 14356 Highway 62\, Eagle Point\, OR\, 97524\, United States
CATEGORIES:Men's Event
ORGANIZER;CN="Pastor Jarret Estremado":MAILTO:epbc2022@gmail.com
END:VEVENT
BEGIN:VEVENT
DTSTART;VALUE=DATE:20251107
DTEND;VALUE=DATE:20251109
DTSTAMP:20260425T144346
CREATED:20250408T175706Z
LAST-MODIFIED:20250408T175706Z
UID:574-1762473600-1762646399@eaglepointbaptist.org
SUMMARY:Two Minute Warning Men's Meeting
DESCRIPTION:
URL:https://eaglepointbaptist.org/event/two-minute-warning-mens-meeting/
LOCATION:OR
CATEGORIES:Men's Event
ORGANIZER;CN="Pastor Jarret Estremado":MAILTO:epbc2022@gmail.com
END:VEVENT
BEGIN:VEVENT
DTSTART;TZID=UTC:20250905T190000
DTEND;TZID=UTC:20250905T200000
DTSTAMP:20260425T144346
CREATED:20250408T174637Z
LAST-MODIFIED:20250408T174637Z
UID:548-1757098800-1757102400@eaglepointbaptist.org
SUMMARY:Men's Bible Study
DESCRIPTION:
URL:https://eaglepointbaptist.org/event/mens-bible-study/
LOCATION:Eagle Point Baptist Church\, 14356 Highway 62\, Eagle Point\, OR\, 97524\, United States
CATEGORIES:Men's Event
ORGANIZER;CN="Pastor Jarret Estremado":MAILTO:epbc2022@gmail.com
END:VEVENT
BEGIN:VEVENT
DTSTART;VALUE=DATE:20250808
DTEND;VALUE=DATE:20250810
DTSTAMP:20260425T144346
CREATED:20250408T174314Z
LAST-MODIFIED:20250408T181606Z
UID:539-1754611200-1754783999@eaglepointbaptist.org
SUMMARY:Men of Valor Conference
DESCRIPTION:
URL:https://eaglepointbaptist.org/event/men-of-valor/
LOCATION:Harvest Baptist Temple\, 2001 S. Columbus Ave\, Medford\, OR\, 97504\, United States
CATEGORIES:Men's Event
ORGANIZER;CN="Pastor Jarret Estremado":MAILTO:epbc2022@gmail.com
END:VEVENT
BEGIN:VEVENT
DTSTART;VALUE=DATE:20250626
DTEND;VALUE=DATE:20250629
DTSTAMP:20260425T144346
CREATED:20250408T173957Z
LAST-MODIFIED:20250408T173957Z
UID:531-1750896000-1751155199@eaglepointbaptist.org
SUMMARY:Men's Camp with Harvest Baptist
DESCRIPTION:
URL:https://eaglepointbaptist.org/event/mens-camp-with-harvest-baptist/
LOCATION:OR
CATEGORIES:Men's Event
ORGANIZER;CN="Pastor Jarret Estremado":MAILTO:epbc2022@gmail.com
END:VEVENT
BEGIN:VEVENT
DTSTART;VALUE=DATE:20250515
DTEND;VALUE=DATE:20250518
DTSTAMP:20260425T144346
CREATED:20250408T173301Z
LAST-MODIFIED:20250408T182128Z
UID:517-1747267200-1747526399@eaglepointbaptist.org
SUMMARY:Men's Hanford Trip
DESCRIPTION:
URL:https://eaglepointbaptist.org/event/mens-hanford-trip/
LOCATION:OR
CATEGORIES:Men's Event
ORGANIZER;CN="Pastor Jarret Estremado":MAILTO:epbc2022@gmail.com
END:VEVENT
END:VCALENDAR