BEGIN:VCALENDAR
VERSION:2.0
PRODID:-//Eagle Point Baptist Church - ECPv6.15.20//NONSGML v1.0//EN
CALSCALE:GREGORIAN
METHOD:PUBLISH
X-ORIGINAL-URL:https://eaglepointbaptist.org
X-WR-CALDESC:Events for Eagle Point Baptist Church
REFRESH-INTERVAL;VALUE=DURATION:PT1H
X-Robots-Tag:noindex
X-PUBLISHED-TTL:PT1H
BEGIN:VTIMEZONE
TZID:UTC
BEGIN:STANDARD
TZOFFSETFROM:+0000
TZOFFSETTO:+0000
TZNAME:UTC
DTSTART:20240101T000000
END:STANDARD
END:VTIMEZONE
BEGIN:VEVENT
DTSTART;TZID=UTC:20251212T190000
DTEND;TZID=UTC:20251212T210000
DTSTAMP:20260425T124334
CREATED:20250408T180238Z
LAST-MODIFIED:20250408T180238Z
UID:591-1765566000-1765573200@eaglepointbaptist.org
SUMMARY:Ladies' Bible Study/Christmas Party
DESCRIPTION:
URL:https://eaglepointbaptist.org/event/ladies-bible-study-christmas-party/
LOCATION:Eagle Point Baptist Church\, 14356 Highway 62\, Eagle Point\, OR\, 97524\, United States
CATEGORIES:Ladies Event
ORGANIZER;CN="Crystal Estremado":MAILTO:epbc2022@gmail.com
END:VEVENT
BEGIN:VEVENT
DTSTART;VALUE=DATE:20250918
DTEND;VALUE=DATE:20250921
DTSTAMP:20260425T124334
CREATED:20250408T174859Z
LAST-MODIFIED:20250408T174859Z
UID:554-1758153600-1758412799@eaglepointbaptist.org
SUMMARY:Ladies' Delight
DESCRIPTION:
URL:https://eaglepointbaptist.org/event/ladies-delight/
LOCATION:Harvest Baptist Temple\, 2001 S. Columbus Ave\, Medford\, OR\, 97504\, United States
CATEGORIES:Ladies Event
ORGANIZER;CN="Crystal Estremado":MAILTO:epbc2022@gmail.com
END:VEVENT
BEGIN:VEVENT
DTSTART;TZID=UTC:20250912T190000
DTEND;TZID=UTC:20250912T200000
DTSTAMP:20260425T124334
CREATED:20250408T174726Z
LAST-MODIFIED:20250408T174726Z
UID:550-1757703600-1757707200@eaglepointbaptist.org
SUMMARY:Ladies' Bible Study
DESCRIPTION:
URL:https://eaglepointbaptist.org/event/ladies-bible-study/
LOCATION:Eagle Point Baptist Church\, 14356 Highway 62\, Eagle Point\, OR\, 97524\, United States
CATEGORIES:Ladies Event
ORGANIZER;CN="Crystal Estremado":MAILTO:epbc2022@gmail.com
END:VEVENT
BEGIN:VEVENT
DTSTART;TZID=UTC:20250425T183000
DTEND;TZID=UTC:20250425T203000
DTSTAMP:20260425T124334
CREATED:20250408T172916Z
LAST-MODIFIED:20250408T172916Z
UID:510-1745605800-1745613000@eaglepointbaptist.org
SUMMARY:Ladies' Night Out
DESCRIPTION:
URL:https://eaglepointbaptist.org/event/ladies-night-out/
LOCATION:Eagle Point Baptist Church\, 14356 Highway 62\, Eagle Point\, OR\, 97524\, United States
CATEGORIES:Ladies Event
ORGANIZER;CN="Crystal Estremado":MAILTO:epbc2022@gmail.com
END:VEVENT
END:VCALENDAR