BEGIN:VCALENDAR
VERSION:2.0
PRODID:-//Eagle Point Baptist Church - ECPv6.15.20//NONSGML v1.0//EN
CALSCALE:GREGORIAN
METHOD:PUBLISH
X-ORIGINAL-URL:https://eaglepointbaptist.org
X-WR-CALDESC:Events for Eagle Point Baptist Church
REFRESH-INTERVAL;VALUE=DURATION:PT1H
X-Robots-Tag:noindex
X-PUBLISHED-TTL:PT1H
BEGIN:VTIMEZONE
TZID:UTC
BEGIN:STANDARD
TZOFFSETFROM:+0000
TZOFFSETTO:+0000
TZNAME:UTC
DTSTART:20240101T000000
END:STANDARD
END:VTIMEZONE
BEGIN:VEVENT
DTSTART;TZID=UTC:20251221T110000
DTEND;TZID=UTC:20251221T130000
DTSTAMP:20260425T144345
CREATED:20250408T180339Z
LAST-MODIFIED:20250408T180339Z
UID:593-1766314800-1766322000@eaglepointbaptist.org
SUMMARY:Christmas Potluck
DESCRIPTION:
URL:https://eaglepointbaptist.org/event/christmas-potluck/
LOCATION:Eagle Point Baptist Church\, 14356 Highway 62\, Eagle Point\, OR\, 97524\, United States
CATEGORIES:Church Service
ORGANIZER;CN="Pastor Jarret Estremado":MAILTO:epbc2022@gmail.com
END:VEVENT
BEGIN:VEVENT
DTSTART;TZID=UTC:20251123T110000
DTEND;TZID=UTC:20251123T130000
DTSTAMP:20260425T144345
CREATED:20250408T175955Z
LAST-MODIFIED:20250408T180934Z
UID:582-1763895600-1763902800@eaglepointbaptist.org
SUMMARY:Thanksgiving Potluck
DESCRIPTION:
URL:https://eaglepointbaptist.org/event/thanksgiving-potluck/
LOCATION:Eagle Point Baptist Church\, 14356 Highway 62\, Eagle Point\, OR\, 97524\, United States
CATEGORIES:Church Service
ORGANIZER;CN="Pastor Jarret Estremado":MAILTO:epbc2022@gmail.com
END:VEVENT
BEGIN:VEVENT
DTSTART;TZID=UTC:20251029T190000
DTEND;TZID=UTC:20251029T200000
DTSTAMP:20260425T144345
CREATED:20250408T175541Z
LAST-MODIFIED:20250408T175541Z
UID:572-1761764400-1761768000@eaglepointbaptist.org
SUMMARY:Church Anniversary and Revival Meeting
DESCRIPTION:
URL:https://eaglepointbaptist.org/event/church-anniversary-and-revival-meeting-5/
LOCATION:Eagle Point Baptist Church\, 14356 Highway 62\, Eagle Point\, OR\, 97524\, United States
CATEGORIES:Church Service
ORGANIZER;CN="Pastor Jarret Estremado":MAILTO:epbc2022@gmail.com
END:VEVENT
BEGIN:VEVENT
DTSTART;TZID=UTC:20251028T190000
DTEND;TZID=UTC:20251028T200000
DTSTAMP:20260425T144345
CREATED:20250408T175458Z
LAST-MODIFIED:20250408T175458Z
UID:570-1761678000-1761681600@eaglepointbaptist.org
SUMMARY:Church Anniversary and Revival Meeting
DESCRIPTION:
URL:https://eaglepointbaptist.org/event/church-anniversary-and-revival-meeting-4/
LOCATION:Eagle Point Baptist Church\, 14356 Highway 62\, Eagle Point\, OR\, 97524\, United States
CATEGORIES:Church Service
ORGANIZER;CN="Pastor Jarret Estremado":MAILTO:epbc2022@gmail.com
END:VEVENT
BEGIN:VEVENT
DTSTART;TZID=UTC:20251027T190000
DTEND;TZID=UTC:20251027T200000
DTSTAMP:20260425T144345
CREATED:20250408T175421Z
LAST-MODIFIED:20250408T175421Z
UID:568-1761591600-1761595200@eaglepointbaptist.org
SUMMARY:Church Anniversary and Revival Meeting
DESCRIPTION:
URL:https://eaglepointbaptist.org/event/church-anniversary-and-revival-meeting-3/
LOCATION:Eagle Point Baptist Church\, 14356 Highway 62\, Eagle Point\, OR\, 97524\, United States
CATEGORIES:Church Service
ORGANIZER;CN="Pastor Jarret Estremado":MAILTO:epbc2022@gmail.com
END:VEVENT
BEGIN:VEVENT
DTSTART;TZID=UTC:20251026T180000
DTEND;TZID=UTC:20251026T190000
DTSTAMP:20260425T144345
CREATED:20250408T175345Z
LAST-MODIFIED:20250408T175345Z
UID:566-1761501600-1761505200@eaglepointbaptist.org
SUMMARY:Church Anniversary and Revival Meeting
DESCRIPTION:
URL:https://eaglepointbaptist.org/event/church-anniversary-and-revival-meeting-2/
LOCATION:Eagle Point Baptist Church\, 14356 Highway 62\, Eagle Point\, OR\, 97524\, United States
CATEGORIES:Church Service
ORGANIZER;CN="Pastor Jarret Estremado":MAILTO:epbc2022@gmail.com
END:VEVENT
BEGIN:VEVENT
DTSTART;TZID=UTC:20251026T110000
DTEND;TZID=UTC:20251026T120000
DTSTAMP:20260425T144345
CREATED:20250408T175258Z
LAST-MODIFIED:20250408T175258Z
UID:564-1761476400-1761480000@eaglepointbaptist.org
SUMMARY:Church Anniversary and Revival Meeting
DESCRIPTION:
URL:https://eaglepointbaptist.org/event/church-anniversary-and-revival-meeting/
LOCATION:Eagle Point Baptist Church\, 14356 Highway 62\, Eagle Point\, OR\, 97524\, United States
CATEGORIES:Church Service
ORGANIZER;CN="Pastor Jarret Estremado":MAILTO:epbc2022@gmail.com
END:VEVENT
BEGIN:VEVENT
DTSTART;TZID=UTC:20250810T173000
DTEND;TZID=UTC:20250810T193000
DTSTAMP:20260425T144345
CREATED:20250408T174412Z
LAST-MODIFIED:20250408T174412Z
UID:542-1754847000-1754854200@eaglepointbaptist.org
SUMMARY:Harvest Homecoming Service
DESCRIPTION:
URL:https://eaglepointbaptist.org/event/harvest-homecoming-service/
LOCATION:Harvest Baptist Temple\, 2001 S. Columbus Ave\, Medford\, OR\, 97504\, United States
CATEGORIES:Church Service
ORGANIZER;CN="Pastor Jarret Estremado":MAILTO:epbc2022@gmail.com
END:VEVENT
BEGIN:VEVENT
DTSTART;VALUE=DATE:20250615
DTEND;VALUE=DATE:20250616
DTSTAMP:20260425T144345
CREATED:20250408T173755Z
LAST-MODIFIED:20250408T194942Z
UID:527-1749945600-1750031999@eaglepointbaptist.org
SUMMARY:Father's Day
DESCRIPTION:
URL:https://eaglepointbaptist.org/event/fathers-day/
LOCATION:Eagle Point Baptist Church\, 14356 Highway 62\, Eagle Point\, OR\, 97524\, United States
CATEGORIES:Church Service,Holiday
ORGANIZER;CN="Pastor Jarret Estremado":MAILTO:epbc2022@gmail.com
END:VEVENT
BEGIN:VEVENT
DTSTART;VALUE=DATE:20250511
DTEND;VALUE=DATE:20250512
DTSTAMP:20260425T144345
CREATED:20250408T173025Z
LAST-MODIFIED:20250408T173025Z
UID:512-1746921600-1747007999@eaglepointbaptist.org
SUMMARY:Mother's Day
DESCRIPTION:
URL:https://eaglepointbaptist.org/event/mothers-day/
LOCATION:Eagle Point Baptist Church\, 14356 Highway 62\, Eagle Point\, OR\, 97524\, United States
CATEGORIES:Church Service
ORGANIZER;CN="Pastor Jarret Estremado":MAILTO:epbc2022@gmail.com
END:VEVENT
END:VCALENDAR